BEGIN:VCALENDAR
VERSION:2.0
PRODID:-//eventon.com NONSGML v1.0//EN
CALSCALE:GREGORIAN
METHOD:PUBLISH
BEGIN:VEVENT
UID:69e500423905a
DTSTAMP:20260419T161810Z
DTSTART:20201120T130000Z
DTEND:20201121T133000Z
LOCATION:STARHOTELS DU PARC Viale Piacenza 12/C PARMA
SUMMARY:TRATTAMENTO DEL COLESTEROLO LDL: È DAVVERO COSÌ FONDAMENTALE ARRIVARE AL TARGET?
DESCRIPTION:posticipato al 02-03 luglio 2021 Il Corso “TRATTAMENTO del CO
 LESTEROLO LDL: è davvero così fondamentale arrivare al target?” si pone
  l’obiettivo di prevenzione e promozione della salute con acquisizione di
  nozioni tecnico-professionali e descrizione del panorama legislativo esist
 ente sulla responsabilità medica. Sulla base del regolamento applicativo a
 pprovato dalla CNFC il[..]\nhttps://congressiconvegni.it/en/eventi/trattame
 nto-del-colesterolo-ldl-e-davvero-cosi-fondamentale-arrivare-al-target-3/
URL:https://congressiconvegni.it/en/eventi/trattamento-del-colesterolo-ldl-e-davvero-cosi-fondamentale-arrivare-al-target-3/
END:VEVENT
END:VCALENDAR