BEGIN:VCALENDAR
VERSION:2.0
PRODID:-//eventon.com NONSGML v1.0//EN
CALSCALE:GREGORIAN
METHOD:PUBLISH
BEGIN:VEVENT
UID:69ecd6a404dbf
DTSTAMP:20260425T145844Z
DTSTART:20251023T200000Z
DTEND:20251025T130000Z
LOCATION:Polytechnic University of Marche\,  Ancona\,  Italy Studentato del Buon Pastore
SUMMARY:38th Meeting Working Group on Prolamin Analysis and Toxicity
DESCRIPTION:The Prolamin Working Group will take up discussions on analytic
 al and clinical issues of gluten and coeliac disease as well as legal issue
 s and the control of gluten-free food for people with gluten hypersensitivi
 ties. We shall have a symposium on “Pediatric screening for celiac diseas
 e: hot topics” with four presentations[..]\nhttps://congressiconvegni.it/
 en/eventi/38th-meeting-working-group-on-prolamin-analysis-and-toxicity/
URL:https://congressiconvegni.it/en/eventi/38th-meeting-working-group-on-prolamin-analysis-and-toxicity/
END:VEVENT
END:VCALENDAR