BEGIN:VCALENDAR
VERSION:2.0
PRODID:-//eventon.com NONSGML v1.0//EN
CALSCALE:GREGORIAN
METHOD:PUBLISH
BEGIN:VEVENT
UID:69e9e1c4b035b
DTSTAMP:20260423T090924Z
DTSTART:20250706T093000Z
DTEND:20250709T193000Z
LOCATION:Palazzo Murena Headquarters of the University Administration Building of the University of Perugia
SUMMARY:Summer School “BioBrillouin for MechanoBiology: Materials\,  Methods and Perspectives”
DESCRIPTION:The proposed school will focus on advanced microscopy and spect
 roscopy techniques\,  in particular on Brillouin spectroscopy and its appli
 cations in studying the mechanical properties of cells and tissues. The pro
 gram will provide an immersive learning experience\,  fostering a multidisc
 iplinary environment for students and early-career researchers from physics
 \,  engineering\,  biology\,  and[..]\nhttps://congressiconvegni.it/eventi/
 summer-school-biobrillouin-for-mechanobiology-materials-methods-and-perspec
 tives/
URL:https://congressiconvegni.it/eventi/summer-school-biobrillouin-for-mechanobiology-materials-methods-and-perspectives/
END:VEVENT
END:VCALENDAR