BEGIN:VCALENDAR
VERSION:2.0
PRODID:-//eventon.com NONSGML v1.0//EN
CALSCALE:GREGORIAN
METHOD:PUBLISH
BEGIN:VEVENT
UID:69e8ce90876a3
DTSTAMP:20260422T133512Z
DTSTART:20260416T100000Z
DTEND:20260416T170000Z
LOCATION:Palazzo della Borsa Via XX Settembre\,  44\,  16121 Genova GE
SUMMARY:RAISE CONNECTIONS Risultati\,  Impatto\,  Prospettive
DESCRIPTION:Giovedì 16 aprile 2026\,  a Genova\,  nella prestigiosa Sala d
 elle Grida di Palazzo della Borsa\,  si terrà “RAISE CONNECTIONS – Ris
 ultati\,  Impatto\,  Prospettive”\,  appuntamento conclusivo del progetto
  RAISE – Robotics and AI for Socio-economic Empowerment\,  finanziato dal
  Ministero dell’Università e della Ricerca nell’ambito del PNRR che ri
 unisce università\,  centri di[..]\nhttps://congressiconvegni.it/eventi/ra
 ise-connections/
URL:https://congressiconvegni.it/eventi/raise-connections/
END:VEVENT
END:VCALENDAR